BEGIN:VCALENDAR
VERSION:2.0
PRODID:-//wp-events-plugin.com//7.2.3.1//EN
TZID:America/Chicago
X-WR-TIMEZONE:America/Chicago
BEGIN:VEVENT
UID:98@tnchess.us
DTSTART;TZID=America/Chicago:20260502T153000
DTEND;TZID=America/Chicago:20260502T193000
DTSTAMP:20260424T022857Z
URL:https://tnchess.us/events/2026-murfreesboro-robotix-institute-scholast
 ic/
SUMMARY:2026 Murfreesboro RobotiX Institute Scholastic
DESCRIPTION:Register: https://forms.gle/7cfEAxX6m9k8Ee219\n\n\n\n&nbsp\;
CATEGORIES:Scholastic
LOCATION:Robotix Institute Murfreesboro\, 1630 South Church Street\, Suite 
 #103\, Murfreesboro\, TN\, United States
X-APPLE-STRUCTURED-LOCATION;VALUE=URI;X-ADDRESS=1630 South Church Street\, 
 Suite #103\, Murfreesboro\, TN\, United States;X-APPLE-RADIUS=100;X-TITLE=
 Robotix Institute Murfreesboro:geo:0,0
END:VEVENT
BEGIN:VTIMEZONE
TZID:America/Chicago
X-LIC-LOCATION:America/Chicago
BEGIN:DAYLIGHT
DTSTART:20260308T030000
TZOFFSETFROM:-0600
TZOFFSETTO:-0500
TZNAME:CDT
END:DAYLIGHT
END:VTIMEZONE
END:VCALENDAR