BEGIN:VCALENDAR
VERSION:2.0
PRODID:-//wp-events-plugin.com//7.2.3.1//EN
TZID:America/Chicago
X-WR-TIMEZONE:America/Chicago
BEGIN:VEVENT
UID:97@tnchess.us
DTSTART;TZID=America/Chicago:20260503T163000
DTEND;TZID=America/Chicago:20260503T183000
DTSTAMP:20260423T022613Z
URL:https://tnchess.us/events/2026-brentwood-robotix-institute-scholastic/
SUMMARY:2026 Brentwood RobotiX Institute Scholastic
DESCRIPTION:Text 615-721-2743\n\n&nbsp\;\n\n
CATEGORIES:Scholastic
LOCATION:RobotiX Institute Brentwood\, 1722 General George Patton Dr\, Ste 
 500A\, Brentwood\, TN\, 37027\, United States
X-APPLE-STRUCTURED-LOCATION;VALUE=URI;X-ADDRESS=1722 General George Patton 
 Dr\, Ste 500A\, Brentwood\, TN\, 37027\, United States;X-APPLE-RADIUS=100;
 X-TITLE=RobotiX Institute Brentwood:geo:0,0
END:VEVENT
BEGIN:VTIMEZONE
TZID:America/Chicago
X-LIC-LOCATION:America/Chicago
BEGIN:DAYLIGHT
DTSTART:20260308T030000
TZOFFSETFROM:-0600
TZOFFSETTO:-0500
TZNAME:CDT
END:DAYLIGHT
END:VTIMEZONE
END:VCALENDAR